BEGIN:VCALENDAR
VERSION:2.0
PRODID:-//Wellness Health Inspiration &amp; Mindfulness Center (WHIM-C) - ECPv6.15.17.1//NONSGML v1.0//EN
CALSCALE:GREGORIAN
METHOD:PUBLISH
X-WR-CALNAME:Wellness Health Inspiration &amp; Mindfulness Center (WHIM-C)
X-ORIGINAL-URL:https://tingstad.usc.edu
X-WR-CALDESC:Events for Wellness Health Inspiration &amp; Mindfulness Center (WHIM-C)
REFRESH-INTERVAL;VALUE=DURATION:PT1H
X-Robots-Tag:noindex
X-PUBLISHED-TTL:PT1H
BEGIN:VTIMEZONE
TZID:America/Los_Angeles
BEGIN:DAYLIGHT
TZOFFSETFROM:-0800
TZOFFSETTO:-0700
TZNAME:PDT
DTSTART:20200308T100000
END:DAYLIGHT
BEGIN:STANDARD
TZOFFSETFROM:-0700
TZOFFSETTO:-0800
TZNAME:PST
DTSTART:20201101T090000
END:STANDARD
BEGIN:DAYLIGHT
TZOFFSETFROM:-0800
TZOFFSETTO:-0700
TZNAME:PDT
DTSTART:20210314T100000
END:DAYLIGHT
BEGIN:STANDARD
TZOFFSETFROM:-0700
TZOFFSETTO:-0800
TZNAME:PST
DTSTART:20211107T090000
END:STANDARD
BEGIN:DAYLIGHT
TZOFFSETFROM:-0800
TZOFFSETTO:-0700
TZNAME:PDT
DTSTART:20220313T100000
END:DAYLIGHT
BEGIN:STANDARD
TZOFFSETFROM:-0700
TZOFFSETTO:-0800
TZNAME:PST
DTSTART:20221106T090000
END:STANDARD
END:VTIMEZONE
BEGIN:VTIMEZONE
TZID:UTC
BEGIN:STANDARD
TZOFFSETFROM:+0000
TZOFFSETTO:+0000
TZNAME:UTC
DTSTART:20180101T000000
END:STANDARD
END:VTIMEZONE
BEGIN:VEVENT
DTSTART;TZID=America/Los_Angeles:20211001T160000
DTEND;TZID=America/Los_Angeles:20211001T190000
DTSTAMP:20260423T094507
CREATED:20210803T220541Z
LAST-MODIFIED:20220131T220014Z
UID:16114-1633104000-1633114800@tingstad.usc.edu
SUMMARY:Voices of Young Caregivers in the Digital Age: Highlighting Students Who Care for a Loved One
DESCRIPTION:[vc_row][vc_column][vc_column_text]The Voices of Young Caregivers in the Digital Age: Highlighting Students Who Care for a Loved One event will be taking place on October 1\, 2021 from 4pm-7pm PDT in the USC Leonard Davis School of Gerontology Auditorium. \nAre you wondering if you are a young caregiver? Take this questionnaire to find out\, and take a look at our fact sheets to learn more about what it means to be a young caregiver. \nNote: \nPlease note that all in-person attendees will be required to complete Trojan Check in order to enter campus. This will only take a moment and there is a “Guest” option for non-USC-affiliated persons. Masks will also be required on campus and in the auditorium. Thank you in advance for your cooperation.[/vc_column_text][vc_cta h2=”Register to qualify to win a gift card” css=”.vc_custom_1630433129059{margin-top: 25px !important;padding-top: 20px !important;padding-bottom: 20px !important;}”]10 attendees will receive a $25 gift card![/vc_cta][vc_separator css=”.vc_custom_1628056428574{padding-top: 30px !important;padding-bottom: 30px !important;}”][vc_column_text]Event Schedule \n4:00pm\nPhotographer Roberto “Bear” Guerra and his collaborator\, Ruxandra Guidi will discuss their “Going Gray in LA: Stories of Aging along Broadway” exhibit \n4:30pm\nThe screening of the documentary “It’s Not a Burden”\nSpecial Guest: Michelle Boyaner\, “It’s Not a Burden” creator and director \n6:00pm\nPanel discussion several young caregivers\, moderated by Kate Wilber\, PhD. Donna Benton\, PhD will also present on telehealth\, LACRC/FCSC\, and provide an update on California Task Force of Family Caregivers.[/vc_column_text][vc_separator css=”.vc_custom_1628056428574{padding-top: 30px !important;padding-bottom: 30px !important;}”][vc_row_inner el_id=”register”][vc_column_inner][vc_column_text]This event took place on October 1\, 2021. Please check our site for new events at a later time.[/vc_column_text][/vc_column_inner][/vc_row_inner][/vc_column][/vc_row][vc_row el_id=”fact-sheets”][vc_column][vc_separator css=”.vc_custom_1628056428574{padding-top: 30px !important;padding-bottom: 30px !important;}”][vc_column_text css=”.vc_custom_1630433180227{padding-bottom: 25px !important;}”]Event Fact Sheets (Download and share us!)[/vc_column_text][vc_row_inner css=”.vc_custom_1630432875334{padding-bottom: 50px !important;}”][vc_column_inner width=”1/3″][vc_column_text] \nYoung Caregiver Overview\n[/vc_column_text][vc_single_image image=”16153″ img_size=”400X400″ onclick=”custom_link” img_link_target=”_blank” link=”https://tingstad.usc.edu/wp-content/uploads/2021/08/8_27-YOUNG-CAREGIVER-FACT-SHEET.pdf” css=”.vc_custom_1630432789578{padding-top: 25px !important;}”][/vc_column_inner][vc_column_inner width=”1/3″][vc_column_text] \nThe Cost of Caregiving\n[/vc_column_text][vc_single_image image=”16154″ img_size=”400X400″ onclick=”custom_link” img_link_target=”_blank” link=”https://tingstad.usc.edu/wp-content/uploads/2021/08/8_27-COSTS-OF-CAREGIVING-1.pdf” css=”.vc_custom_1630432794040{padding-top: 25px !important;}”][/vc_column_inner][vc_column_inner width=”1/3″][vc_column_text] \nBingo: Are you a Young Caregiver?\n[/vc_column_text][vc_single_image image=”16155″ img_size=”400X400″ onclick=”custom_link” img_link_target=”_blank” link=”https://tingstad.usc.edu/wp-content/uploads/2021/08/8_27-YOUNG-CAREGIVER-BINGO-1.pdf” css=”.vc_custom_1630432767129{padding-top: 25px !important;}”][/vc_column_inner][/vc_row_inner][/vc_column][/vc_row]
URL:https://tingstad.usc.edu/event/voices-of-young-caregivers-in-the-digital-age-highlighting-students-who-care-for-a-loved-one/
LOCATION:USC Leonard Davis School of Gerontology\, 3715 Mclintock Ave #115\, Los Angeles\, CA\, 90089\, United States
ATTACH;FMTTYPE=image/png:https://tingstad.usc.edu/wp-content/uploads/2021/08/Copy-of-FB-Linkedin-Twitter-Voices-of-Young-Caregivers-in-the-Digital-Age.png
END:VEVENT
BEGIN:VEVENT
DTSTART;TZID=UTC:20190806T083000
DTEND;TZID=UTC:20190806T143000
DTSTAMP:20260423T094507
CREATED:20190710T081555Z
LAST-MODIFIED:20190710T082227Z
UID:15990-1565080200-1565101800@tingstad.usc.edu
SUMMARY:Protecting Older Adults from Fraud: A Common Ground Conference
DESCRIPTION:
URL:https://tingstad.usc.edu/event/protecting-older-adults-from-fraud-a-common-ground-conference/
LOCATION:California Endowment\, 1000 Alameda Street\, Los Angeles\, CA\, 90012\, United States
ATTACH;FMTTYPE=image/png:https://tingstad.usc.edu/wp-content/uploads/2019/07/Screen-Shot-2019-07-09-at-6.06.35-PM.png
END:VEVENT
BEGIN:VEVENT
DTSTART;TZID=UTC:20190427T090000
DTEND;TZID=UTC:20190427T120000
DTSTAMP:20260423T094507
CREATED:20190420T044029Z
LAST-MODIFIED:20190423T020943Z
UID:15982-1556355600-1556366400@tingstad.usc.edu
SUMMARY:Cultivating a Healthy Brain – April 27 Cognitive Health Talk at L.A. County Arboretum
DESCRIPTION:The USC Emeriti Center College in collaboration with the Los Angeles County Arboretum and Botanic Garden presented \n“Cultivating a Healthy Brain”\nSpeaker: Dr. Robert Tager\, M.D. \nThursday\, April 27 \n9:00 a.m. – 12:00 p.m. \nRSVP Online: bit.ly/Arboretum4-27-17 \n– \nThis class explored scientific evidence of controllable factors that can enhance and maintain healthy cognitive function. It began with an introduction to pertinent aspects of brain function and a review of developments that have influenced current thought about maintaining and enhancing cognitive function. The discussion continued during a walk through the gardens. \nDr. Robert Tager is a neurologist and gerontologist whose recent courses at USC have included “Introduction to Clinical Medicine”\, “Ethical Issues in Geriatric Health Care” and “Introduction to Neuroscience”. He is also an Arboretum docent and has been developing health and wellness classes there. \nAdmission to Arboretum: Free for members\, $6.00 Seniors (62 and over)\, $9.00 General Admission \nVisit the arboretum website for directions: https://www.arboretum.org/visit/hours-and-admission/
URL:https://tingstad.usc.edu/event/cultivating-a-healthy-brain-april-27-cognitive-health-talk-at-l-a-county-arboretum/
LOCATION:L.A. County Arboretum
ATTACH;FMTTYPE=image/jpeg:https://tingstad.usc.edu/wp-content/uploads/2019/04/shutterstock_145564693-1.jpg
END:VEVENT
BEGIN:VEVENT
DTSTART;TZID=UTC:20190323T090000
DTEND;TZID=UTC:20190323T150000
DTSTAMP:20260423T094507
CREATED:20190204T155556Z
LAST-MODIFIED:20190207T023851Z
UID:15761-1553331600-1553353200@tingstad.usc.edu
SUMMARY:Free GeriYoga Training
DESCRIPTION:This one day training course will teach you state of the art tools to improve and learn new yoga techniques to help make a difference in the lives of older adults with cognitive impairments. \nThis course is taught by specialists working with older adults or certified yoga instructors. Sign-up for the training and make a difference in the life of a person with dementia. No yoga experience necessary! \nPlease wear comfortable clothes and bring a water bottle and a bag lunch. \nYou’ll receive a FREE yoga mat at the end of the course! \nRegistration Required by March 17th \nClick Here to register today!
URL:https://tingstad.usc.edu/event/free-geriyoga-training-032319/
LOCATION:USC Leonard Davis School of Gerontology\, 3715 Mclintock Ave #115\, Los Angeles\, CA\, 90089\, United States
ATTACH;FMTTYPE=image/jpeg:https://tingstad.usc.edu/wp-content/uploads/2018/08/img-event-yoga.jpg
ORGANIZER;CN="USC WHIM-C":MAILTO:tingstad@usc.edu
END:VEVENT
END:VCALENDAR